BEGIN:VCALENDAR
VERSION:2.0
PRODID:-//https://nsdcrealtors.com//NONSGML kigkonsult.se iCalcreator 2.41.71//
CALSCALE:GREGORIAN
METHOD:PUBLISH
UID:37303838-3530-4430-b865-323233623335
X-WR-CALNAME:JCal Pro Calendar
X-WR-CALDESC:Your online events calendar
X-WR-TIMEZONE:America/Los_Angeles
BEGIN:VTIMEZONE
TZID:America/Los_Angeles
TZUNTIL:20271107T090000Z
BEGIN:STANDARD
TZNAME:PST
DTSTART:20251102T020000
TZOFFSETFROM:-0700
TZOFFSETTO:-0800
RDATE:20261101T020000
END:STANDARD
BEGIN:DAYLIGHT
TZNAME:PDT
DTSTART:20260308T020000
TZOFFSETFROM:-0800
TZOFFSETTO:-0700
RDATE:20270314T020000
END:DAYLIGHT
END:VTIMEZONE
BEGIN:VEVENT
UID:20230720T130000PDT-037390VVd1@https://nsdcrealtors.com/
DTSTAMP:20260419T232841Z
CATEGORIES:In Person Event
DESCRIPTION:<p><span style='font-family: arial\, helvetica\, sans-serif\; f
 ont-size: 12pt\;'><span style='color: #ff0000\;'><strong>**This is the In-
 Person Registration**</strong></span><br /><br /></span><span style='font-
 family: arial\, helvetica\, sans-serif\; font-size: 12pt\;'><strong>Broker
 s and Office Managers: Learn how to handle disputes between Salespersons\,
  Buyers\, and Sellers. <br /></strong><em>All Members who attend can becom
 e a North San Diego County REALTOR® mediator!</em></span></p>\n<p><br /><s
 pan style='font-size: 12pt\;'><strong><span style='font-family: arial\, he
 lvetica\, sans-serif\;'>What's in it for you?</span></strong></span></p>\n
 <ul data-editing-info='{&quot\;orderedStyleType&quot\;:1\,&quot\;unordered
 StyleType&quot\;:1}'>\n<li><span style='font-family: arial\, helvetica\, s
 ans-serif\; font-size: 12pt\;'>How to handle disputes that may arise out o
 f transactions within your own office</span></li>\n</ul>\n<ul data-editing
 -info='{&quot\;orderedStyleType&quot\;:1\,&quot\;unorderedStyleType&quot\;
 :1}'>\n<li><span style='font-family: arial\, helvetica\, sans-serif\; font
 -size: 12pt\;'>Strategies for dealing with difficult people and situations
 </span></li>\n</ul>\n<ul data-editing-info='{&quot\;orderedStyleType&quot\
 ;:1\,&quot\;unorderedStyleType&quot\;:1}'>\n<li><span style='font-family: 
 arial\, helvetica\, sans-serif\; font-size: 12pt\;'>How to break down conf
 lict issues</span></li>\n</ul>\n<ul data-editing-info='{&quot\;orderedStyl
 eType&quot\;:1\,&quot\;unorderedStyleType&quot\;:1}'>\n<li><span style='fo
 nt-family: arial\, helvetica\, sans-serif\; font-size: 12pt\;'>How to stay
  calm and collected during difficult times</span></li>\n</ul>\n<p><span st
 yle='font-family: arial\, helvetica\, sans-serif\; font-size: 12pt\;'><str
 ong><br /><span style='color: #ff0000\;'>Session 1</span>:</strong>  July 
 20\, 2023\, 1:00 pm - 4:00 pm </span></p>\n<p><span style='font-family: ar
 ial\, helvetica\, sans-serif\; font-size: 12pt\;'><strong style='font-styl
 e: inherit\;'><br />Session 2: </strong> July 21\, 2023\, 9:00 am - 12:00 
 pm</span><br /><br /><span style='font-family: arial\, helvetica\, sans-se
 rif\; font-size: 12pt\;'><strong>Where:</strong>  </span><br /><span style
 ='font-family: arial\, helvetica\, sans-serif\; font-size: 12pt\;'>REALTOR
 ® Hub on the 5</span><br /><span style='font-family: arial\, helvetica\, s
 ans-serif\; font-size: 12pt\;'> 1903 Wright Pl.\, Ste. 120</span><br /><sp
 an style='font-family: arial\, helvetica\, sans-serif\; font-size: 12pt\;'
 >Carlsbad\, CA 92008</span><br /><span style='font-family: arial\, helveti
 ca\, sans-serif\; font-size: 12pt\;'><em><br />and</em></span><br /><span 
 style='font-family: arial\, helvetica\, sans-serif\; font-size: 12pt\;'><b
 r />Online on Zoom </span></p>\n<br /><span style='font-family: arial\, he
 lvetica\, sans-serif\; font-size: 12pt\;'><strong>In-Person Registration F
 ee: <br /></strong>Members - $60.00                                     </
 span><br /><span style='font-family: arial\, helvetica\, sans-serif\; font
 -size: 12pt\;'>Non-Members: $75.00</span><br /><span style='font-family: a
 rial\, helvetica\, sans-serif\; font-size: 12pt\;'>Current NSDCR Mediators
 : FREE</span>\n<p><span style='font-family: arial\, helvetica\, sans-serif
 \; font-size: 12pt\;'> </span></p>\n<p><span style='font-family: arial\, h
 elvetica\, sans-serif\; font-size: 12pt\;'><strong>Instructor:</strong>  E
 lizabeth Miller-Bougdanos<br /></span><span style='font-family: arial\, he
 lvetica\, sans-serif\; font-size: 10pt\;' class='WdYUQQ text-decoration-no
 ne text-strikethrough-none'>Elizabeth Miller-Bougdanos is currently an att
 orney in private practice. She was Senior Counsel in the Corporate Legal D
 epartment of the California Association of REALTORS® (“C.A.R.”) for over 2
 0 years. During her tenure at C.A.R.\, she worked on REALTOR® legal and bu
 siness matters\, advising C.A.R.\, local Associations\, MLSs and the real 
 estate industry on a variety of broker\, MLS and online data\, licensing\,
  intellectual property\, privacy\, antitrust\, Code of Ethics\, contractua
 l and corporate matters. She oversaw the State’s legal and policy program 
 on the MLS and published Model MLS and Bylaws documents and legal articles
 . She was a frequent speaker on these issues.</span><span class='WdYUQQ te
 xt-decoration-none text-strikethrough-none white-space-prewrap'> </span></
 p>
DTSTART;TZID=America/Los_Angeles:20230720T130000
DTEND;TZID=America/Los_Angeles:20230720T160000
SUMMARY:Mediation Training\, Session 1\, In-Person
URL:https://nsdcrealtors.com/education-consumers/monthly-calendar/20-associ
 ation-events/3711-mediation-training-session-1-in-person
X-ALT-DESC;FMTTYPE=TEXT/HTML:<p><span style='font-family: arial\, helvetica
 \, sans-serif\; font-size: 12pt\;'><span style='color: #ff0000\;'><strong>
 **This is the In-Person Registration**</strong></span><br /><br /></span><
 span style='font-family: arial\, helvetica\, sans-serif\; font-size: 12pt\
 ;'><strong>Brokers and Office Managers: Learn how to handle disputes betwe
 en Salespersons\, Buyers\, and Sellers. <br /></strong><em>All Members who
  attend can become a North San Diego County REALTOR® mediator!</em></span>
 </p>\n<p><br /><span style='font-size: 12pt\;'><strong><span style='font-f
 amily: arial\, helvetica\, sans-serif\;'>What's in it for you?</span></str
 ong></span></p>\n<ul data-editing-info='{&quot\;orderedStyleType&quot\;:1\
 ,&quot\;unorderedStyleType&quot\;:1}'>\n<li><span style='font-family: aria
 l\, helvetica\, sans-serif\; font-size: 12pt\;'>How to handle disputes tha
 t may arise out of transactions within your own office</span></li>\n</ul>
 \n<ul data-editing-info='{&quot\;orderedStyleType&quot\;:1\,&quot\;unorder
 edStyleType&quot\;:1}'>\n<li><span style='font-family: arial\, helvetica\,
  sans-serif\; font-size: 12pt\;'>Strategies for dealing with difficult peo
 ple and situations</span></li>\n</ul>\n<ul data-editing-info='{&quot\;orde
 redStyleType&quot\;:1\,&quot\;unorderedStyleType&quot\;:1}'>\n<li><span st
 yle='font-family: arial\, helvetica\, sans-serif\; font-size: 12pt\;'>How 
 to break down conflict issues</span></li>\n</ul>\n<ul data-editing-info='{
 &quot\;orderedStyleType&quot\;:1\,&quot\;unorderedStyleType&quot\;:1}'>\n<
 li><span style='font-family: arial\, helvetica\, sans-serif\; font-size: 1
 2pt\;'>How to stay calm and collected during difficult times</span></li>\n
 </ul>\n<p><span style='font-family: arial\, helvetica\, sans-serif\; font-
 size: 12pt\;'><strong><br /><span style='color: #ff0000\;'>Session 1</span
 >:</strong>  July 20\, 2023\, 1:00 pm - 4:00 pm </span></p>\n<p><span styl
 e='font-family: arial\, helvetica\, sans-serif\; font-size: 12pt\;'><stron
 g style='font-style: inherit\;'><br />Session 2: </strong> July 21\, 2023\
 , 9:00 am - 12:00 pm</span><br /><br /><span style='font-family: arial\, h
 elvetica\, sans-serif\; font-size: 12pt\;'><strong>Where:</strong>  </span
 ><br /><span style='font-family: arial\, helvetica\, sans-serif\; font-siz
 e: 12pt\;'>REALTOR® Hub on the 5</span><br /><span style='font-family: ari
 al\, helvetica\, sans-serif\; font-size: 12pt\;'> 1903 Wright Pl.\, Ste. 1
 20</span><br /><span style='font-family: arial\, helvetica\, sans-serif\; 
 font-size: 12pt\;'>Carlsbad\, CA 92008</span><br /><span style='font-famil
 y: arial\, helvetica\, sans-serif\; font-size: 12pt\;'><em><br />and</em><
 /span><br /><span style='font-family: arial\, helvetica\, sans-serif\; fon
 t-size: 12pt\;'><br />Online on Zoom </span></p>\n<br /><span style='font-
 family: arial\, helvetica\, sans-serif\; font-size: 12pt\;'><strong>In-Per
 son Registration Fee: <br /></strong>Members - $60.00                     
                 </span><br /><span style='font-family: arial\, helvetica\,
  sans-serif\; font-size: 12pt\;'>Non-Members: $75.00</span><br /><span sty
 le='font-family: arial\, helvetica\, sans-serif\; font-size: 12pt\;'>Curre
 nt NSDCR Mediators: FREE</span>\n<p><span style='font-family: arial\, helv
 etica\, sans-serif\; font-size: 12pt\;'> </span></p>\n<p><span style='font
 -family: arial\, helvetica\, sans-serif\; font-size: 12pt\;'><strong>Instr
 uctor:</strong>  Elizabeth Miller-Bougdanos<br /></span><span style='font-
 family: arial\, helvetica\, sans-serif\; font-size: 10pt\;' class='WdYUQQ 
 text-decoration-none text-strikethrough-none'>Elizabeth Miller-Bougdanos i
 s currently an attorney in private practice. She was Senior Counsel in the
  Corporate Legal Department of the California Association of REALTORS® (“C
 .A.R.”) for over 20 years. During her tenure at C.A.R.\, she worked on REA
 LTOR® legal and business matters\, advising C.A.R.\, local Associations\, 
 MLSs and the real estate industry on a variety of broker\, MLS and online 
 data\, licensing\, intellectual property\, privacy\, antitrust\, Code of E
 thics\, contractual and corporate matters. She oversaw the State’s legal a
 nd policy program on the MLS and published Model MLS and Bylaws documents 
 and legal articles. She was a frequent speaker on these issues.</span><spa
 n class='WdYUQQ text-decoration-none text-strikethrough-none white-space-p
 rewrap'> </span></p>
END:VEVENT
END:VCALENDAR
