BEGIN:VCALENDAR
VERSION:2.0
PRODID:-//https://nsdcrealtors.com//NONSGML kigkonsult.se iCalcreator 2.41.71//
CALSCALE:GREGORIAN
METHOD:PUBLISH
UID:39323035-3733-4066-b336-373262663431
X-WR-CALNAME:JCal Pro Calendar
X-WR-CALDESC:Your online events calendar
X-WR-TIMEZONE:America/Los_Angeles
BEGIN:VTIMEZONE
TZID:America/Los_Angeles
TZUNTIL:20271107T090000Z
BEGIN:STANDARD
TZNAME:PST
DTSTART:20251102T020000
TZOFFSETFROM:-0700
TZOFFSETTO:-0800
RDATE:20261101T020000
END:STANDARD
BEGIN:DAYLIGHT
TZNAME:PDT
DTSTART:20260308T020000
TZOFFSETFROM:-0800
TZOFFSETTO:-0700
RDATE:20270314T020000
END:DAYLIGHT
END:VTIMEZONE
BEGIN:VEVENT
UID:20240306T090000UTC-0797KpUUMO@https://nsdcrealtors.com/
DTSTAMP:20260419T125255Z
CATEGORIES:In Person Event
CATEGORIES:Commercial
DESCRIPTION:<p style='text-align: center\;'><strong>Join us for this in-per
 son class at the REALTOR® Hub on the 5!</strong></p>\n<p style='text-align
 : center\;'><strong>1903 Wright Place #120\, Carlsbad\, CA 92008&nbsp\;</s
 trong></p>\n<p><strong>1-Day Math Course</strong> - This class is designed
  for residential agents and brokers who want a clear understanding of the 
 buyers' side of the Commercial Real Estate transaction.&nbsp\; Many topics
  are covered during this class\, including:</p>\n<ul>\n<li>Creating and un
 derstanding a buyer ROI analysis</li>\n<li>What makes a cap rate good or b
 ad?</li>\n<li>The 3-types of investors and how they like to buy</li>\n<li>
 How to speak in terms that your investors will understand and be excited a
 bout</li>\n<li>AND SO MUCH MORE!!</li>\n</ul>\n<p><strong>Michel Simpson</
 strong> - Named Top 1% of Agents in the U.S. and Top 3 Commercial Broker i
 n California/Hawaii\, Michael Simpson is the Founder &amp\; Senior Instruc
 tor of The National Commercial Real Estate Association\, a training &amp\;
  coaching organization for Residential agents &amp\; brokers seeking to bu
 ild wealth through Commercial Investment Sales. Referred to as the leading
  authority on Resimercial® Real Estate\, Simpson is the author of The Ulti
 mate Guide to List &amp\; Sell Commercial Investment Properties\, and his 
 curriculum and training programs have been credited for making many multi-
 million dollar producers in the industry.</p>\n<p style='text-align: cente
 r\;'><strong>**Earn 7 hrs CE&nbsp\; Credit - Sponsor #5129**</strong></p>
 \n<p style='text-align: center\;'><strong>Lunch will be Provided</strong><
 /p>\n<p style='text-align: center\;'><strong>Seats are Limited - Register 
 TODAY!</strong></p>\n<p style='text-align: center\;'><strong>This Class wi
 ll not be Recorded&nbsp\;&nbsp\;</strong></p>\n<p style='text-align: justi
 fy\;'><strong>Members</strong>: $20</p>\n<p style='text-align: justify\;'>
 <strong>All Others&nbsp\; (Outside of NSDCR):&nbsp\;</strong>$35 (To regis
 ter\,&nbsp\;<joomla-hidden-mail  is-link='1' is-email='0' first='ZW1haWwtZ
 WR1Y2F0aW9u' last='bnNkY3JlYWx0b3JzLmNvbQ==' text='ZW1haWw=' base='' >This
  email address is being protected from spambots. You need JavaScript enabl
 ed to view it.</joomla-hidden-mail>&nbsp\;- <a href='mailto:Education@nsdc
 realtors.com'></a><joomla-hidden-mail  is-link='1' is-email='1' first='RWR
 1Y2F0aW9u' last='bnNkY3JlYWx0b3JzLmNvbQ==' text='RWR1Y2F0aW9uQG5zZGNyZWFsd
 G9ycy5jb20=' base='' >This email address is being protected from spambots.
  You need JavaScript enabled to view it.</joomla-hidden-mail>)</p>\n<p>&nb
 sp\;</p>
DTSTART;TZID=America/Los_Angeles:20240306T090000
DTEND;TZID=America/Los_Angeles:20240306T170000
SUMMARY:1-Day Ultimate Guide to List & Sell Commercial Investment Propertie
 s -LIVE
URL:https://nsdcrealtors.com/education-consumers/monthly-calendar/20-associ
 ation-events/3786-1-day-ultimate-guide-to-list-sell-commercial-investment-
 properties
X-ALT-DESC;FMTTYPE=TEXT/HTML:<p style='text-align: center\;'><strong>Join u
 s for this in-person class at the REALTOR® Hub on the 5!</strong></p>\n<p 
 style='text-align: center\;'><strong>1903 Wright Place #120\, Carlsbad\, C
 A 92008&nbsp\;</strong></p>\n<p><strong>1-Day Math Course</strong> - This 
 class is designed for residential agents and brokers who want a clear unde
 rstanding of the buyers' side of the Commercial Real Estate transaction.&n
 bsp\; Many topics are covered during this class\, including:</p>\n<ul>\n<l
 i>Creating and understanding a buyer ROI analysis</li>\n<li>What makes a c
 ap rate good or bad?</li>\n<li>The 3-types of investors and how they like 
 to buy</li>\n<li>How to speak in terms that your investors will understand
  and be excited about</li>\n<li>AND SO MUCH MORE!!</li>\n</ul>\n<p><strong
 >Michel Simpson</strong> - Named Top 1% of Agents in the U.S. and Top 3 Co
 mmercial Broker in California/Hawaii\, Michael Simpson is the Founder &amp
 \; Senior Instructor of The National Commercial Real Estate Association\, 
 a training &amp\; coaching organization for Residential agents &amp\; brok
 ers seeking to build wealth through Commercial Investment Sales. Referred 
 to as the leading authority on Resimercial® Real Estate\, Simpson is the a
 uthor of The Ultimate Guide to List &amp\; Sell Commercial Investment Prop
 erties\, and his curriculum and training programs have been credited for m
 aking many multi-million dollar producers in the industry.</p>\n<p style='
 text-align: center\;'><strong>**Earn 7 hrs CE&nbsp\; Credit - Sponsor #512
 9**</strong></p>\n<p style='text-align: center\;'><strong>Lunch will be Pr
 ovided</strong></p>\n<p style='text-align: center\;'><strong>Seats are Lim
 ited - Register TODAY!</strong></p>\n<p style='text-align: center\;'><stro
 ng>This Class will not be Recorded&nbsp\;&nbsp\;</strong></p>\n<p style='t
 ext-align: justify\;'><strong>Members</strong>: $20</p>\n<p style='text-al
 ign: justify\;'><strong>All Others&nbsp\; (Outside of NSDCR):&nbsp\;</stro
 ng>$35 (To register\,&nbsp\;<joomla-hidden-mail  is-link='1' is-email='0' 
 first='ZW1haWwtZWR1Y2F0aW9u' last='bnNkY3JlYWx0b3JzLmNvbQ==' text='ZW1haWw
 =' base='' >This email address is being protected from spambots. You need 
 JavaScript enabled to view it.</joomla-hidden-mail>&nbsp\;- <a href='mailt
 o:Education@nsdcrealtors.com'></a><joomla-hidden-mail  is-link='1' is-emai
 l='1' first='RWR1Y2F0aW9u' last='bnNkY3JlYWx0b3JzLmNvbQ==' text='RWR1Y2F0a
 W9uQG5zZGNyZWFsdG9ycy5jb20=' base='' >This email address is being protecte
 d from spambots. You need JavaScript enabled to view it.</joomla-hidden-ma
 il>)</p>\n<p>&nbsp\;</p>
END:VEVENT
END:VCALENDAR
