BEGIN:VCALENDAR
VERSION:2.0
PRODID:-//https://nsdcrealtors.com//NONSGML kigkonsult.se iCalcreator 2.41.71//
CALSCALE:GREGORIAN
METHOD:PUBLISH
UID:37396536-3539-4366-b866-393961313030
X-WR-CALNAME:JCal Pro Calendar
X-WR-CALDESC:Your online events calendar
X-WR-TIMEZONE:America/Los_Angeles
BEGIN:VTIMEZONE
TZID:America/Los_Angeles
TZUNTIL:20271107T090000Z
BEGIN:STANDARD
TZNAME:PST
DTSTART:20251102T020000
TZOFFSETFROM:-0700
TZOFFSETTO:-0800
RDATE:20261101T020000
END:STANDARD
BEGIN:DAYLIGHT
TZNAME:PDT
DTSTART:20260308T020000
TZOFFSETFROM:-0800
TZOFFSETTO:-0700
RDATE:20270314T020000
END:DAYLIGHT
END:VTIMEZONE
BEGIN:VEVENT
UID:20230720T130000PDT-1042SekxKd@https://nsdcrealtors.com/
DTSTAMP:20260419T232821Z
CATEGORIES:Education Webinar
DESCRIPTION:<p><span style='font-family: arial\, helvetica\, sans-serif\; f
 ont-size: 12pt\;'><strong><span style='color: #ff0000\;'>**This is the Web
 inar/Zoom Registration**</span><br /><br />Brokers and Office Managers: Le
 arn how to handle disputes between Salespersons\, Buyers\, and Sellers.<br
  data-uw-rm-sr='' /></strong><em>All Members who attend can become a North
  San Diego County REALTOR® mediator!</em></span></p>\n<p><br data-uw-rm-sr
 ='' /><span style='font-family: arial\, helvetica\, sans-serif\; font-size
 : 12pt\;'><strong>What's in it for you?</strong></span></p>\n<ul data-edit
 ing-info='{&quot\;orderedStyleType&quot\;:1\,&quot\;unorderedStyleType&quo
 t\;:1}'>\n<li><span style='font-family: arial\, helvetica\, sans-serif\; f
 ont-size: 12pt\;'>How to handle disputes that may arise out of transaction
 s within your own office</span></li>\n</ul>\n<ul data-editing-info='{&quot
 \;orderedStyleType&quot\;:1\,&quot\;unorderedStyleType&quot\;:1}'>\n<li><s
 pan style='font-family: arial\, helvetica\, sans-serif\; font-size: 12pt\;
 '>Strategies for dealing with difficult people and situations</span></li>
 \n</ul>\n<ul data-editing-info='{&quot\;orderedStyleType&quot\;:1\,&quot\;
 unorderedStyleType&quot\;:1}'>\n<li><span style='font-family: arial\, helv
 etica\, sans-serif\; font-size: 12pt\;'>How to break down conflict issues<
 /span></li>\n</ul>\n<ul data-editing-info='{&quot\;orderedStyleType&quot\;
 :1\,&quot\;unorderedStyleType&quot\;:1}'>\n<li><span style='font-family: a
 rial\, helvetica\, sans-serif\; font-size: 12pt\;'>How to stay calm and co
 llected during difficult times</span></li>\n</ul>\n<p><span style='font-fa
 mily: arial\, helvetica\, sans-serif\; font-size: 12pt\;'><strong><br data
 -uw-rm-sr='' /><span style='color: #ff0000\;'>Session 1</span>:</strong>  
 July 20\, 2023\, 1:00 pm - 4:00 pm </span></p>\n<p><span style='font-famil
 y: arial\, helvetica\, sans-serif\; font-size: 12pt\;'><strong><br data-uw
 -rm-sr='' />Session 2: </strong> July 21\, 2023\, 9:00 am - 12:00 pm</span
 ><br data-uw-rm-sr='' /><br data-uw-rm-sr='' /><span style='font-family: a
 rial\, helvetica\, sans-serif\; font-size: 12pt\;'><strong>Where:</strong>
  </span><br data-uw-rm-sr='' /><span style='font-family: arial\, helvetica
 \, sans-serif\; font-size: 12pt\;'>REALTOR® Hub on the 5</span><br data-uw
 -rm-sr='' /><span style='font-family: arial\, helvetica\, sans-serif\; fon
 t-size: 12pt\;'>1903 Wright Pl.\, Ste. 120</span><br data-uw-rm-sr='' /><s
 pan style='font-family: arial\, helvetica\, sans-serif\; font-size: 12pt\;
 '>Carlsbad\, CA 92008</span><br data-uw-rm-sr='' /><span style='font-famil
 y: arial\, helvetica\, sans-serif\; font-size: 12pt\;'><em><br data-uw-rm-
 sr='' />and</em></span><br data-uw-rm-sr='' /><span style='font-family: ar
 ial\, helvetica\, sans-serif\; font-size: 12pt\;'><br data-uw-rm-sr='' />O
 nline on Zoom</span></p>\n<br data-uw-rm-sr='' /><span style='font-family:
  arial\, helvetica\, sans-serif\; font-size: 12pt\;'><strong>Webinar/Zoom 
 Registration Fee: <br data-uw-rm-sr='' /></strong>Members - $60.00        
                              </span><br data-uw-rm-sr='' /><span style='fo
 nt-family: arial\, helvetica\, sans-serif\; font-size: 12pt\;'>Non-Members
 : $75.00</span><br data-uw-rm-sr='' /><span style='font-family: arial\, he
 lvetica\, sans-serif\; font-size: 12pt\;'>Current NSDCR Mediators: FREE</s
 pan>\n<p><span style='font-family: arial\, helvetica\, sans-serif\; font-s
 ize: 12pt\;'> </span></p>\n<p><span style='font-family: arial\, helvetica\
 , sans-serif\; font-size: 12pt\;'><strong>Instructor:</strong>  Elizabeth 
 Miller-Bougdanos<br data-uw-rm-sr='' /><span style='font-size: 10pt\;' cla
 ss='WdYUQQ text-decoration-none text-strikethrough-none'>Elizabeth Miller-
 Bougdanos is currently an attorney in private practice. She was Senior Cou
 nsel in the Corporate Legal Department of the California Association of RE
 ALTORS® (“C.A.R.”) for over 20 years. During her tenure at C.A.R.\, she wo
 rked on REALTOR® legal and business matters\, advising C.A.R.\, local Asso
 ciations\, MLSs and the real estate industry on a variety of broker\, MLS 
 and online data\, licensing\, intellectual property\, privacy\, antitrust\
 , Code of Ethics\, contractual and corporate matters. She oversaw the Stat
 e’s legal and policy program on the MLS and published Model MLS and Bylaws
  documents and legal articles. She was a frequent speaker on these issues.
 </span></span></p>
DTSTART;TZID=America/Los_Angeles:20230720T130000
DTEND;TZID=America/Los_Angeles:20230720T160000
SUMMARY:Mediation Training\, Session 1\, Webinar
URL:https://nsdcrealtors.com/education-consumers/monthly-calendar/36-ce/371
 2-mediation-training-session-1-webinar
X-ALT-DESC;FMTTYPE=TEXT/HTML:<p><span style='font-family: arial\, helvetica
 \, sans-serif\; font-size: 12pt\;'><strong><span style='color: #ff0000\;'>
 **This is the Webinar/Zoom Registration**</span><br /><br />Brokers and Of
 fice Managers: Learn how to handle disputes between Salespersons\, Buyers\
 , and Sellers.<br data-uw-rm-sr='' /></strong><em>All Members who attend c
 an become a North San Diego County REALTOR® mediator!</em></span></p>\n<p>
 <br data-uw-rm-sr='' /><span style='font-family: arial\, helvetica\, sans-
 serif\; font-size: 12pt\;'><strong>What's in it for you?</strong></span></
 p>\n<ul data-editing-info='{&quot\;orderedStyleType&quot\;:1\,&quot\;unord
 eredStyleType&quot\;:1}'>\n<li><span style='font-family: arial\, helvetica
 \, sans-serif\; font-size: 12pt\;'>How to handle disputes that may arise o
 ut of transactions within your own office</span></li>\n</ul>\n<ul data-edi
 ting-info='{&quot\;orderedStyleType&quot\;:1\,&quot\;unorderedStyleType&qu
 ot\;:1}'>\n<li><span style='font-family: arial\, helvetica\, sans-serif\; 
 font-size: 12pt\;'>Strategies for dealing with difficult people and situat
 ions</span></li>\n</ul>\n<ul data-editing-info='{&quot\;orderedStyleType&q
 uot\;:1\,&quot\;unorderedStyleType&quot\;:1}'>\n<li><span style='font-fami
 ly: arial\, helvetica\, sans-serif\; font-size: 12pt\;'>How to break down 
 conflict issues</span></li>\n</ul>\n<ul data-editing-info='{&quot\;ordered
 StyleType&quot\;:1\,&quot\;unorderedStyleType&quot\;:1}'>\n<li><span style
 ='font-family: arial\, helvetica\, sans-serif\; font-size: 12pt\;'>How to 
 stay calm and collected during difficult times</span></li>\n</ul>\n<p><spa
 n style='font-family: arial\, helvetica\, sans-serif\; font-size: 12pt\;'>
 <strong><br data-uw-rm-sr='' /><span style='color: #ff0000\;'>Session 1</s
 pan>:</strong>  July 20\, 2023\, 1:00 pm - 4:00 pm </span></p>\n<p><span s
 tyle='font-family: arial\, helvetica\, sans-serif\; font-size: 12pt\;'><st
 rong><br data-uw-rm-sr='' />Session 2: </strong> July 21\, 2023\, 9:00 am 
 - 12:00 pm</span><br data-uw-rm-sr='' /><br data-uw-rm-sr='' /><span style
 ='font-family: arial\, helvetica\, sans-serif\; font-size: 12pt\;'><strong
 >Where:</strong> </span><br data-uw-rm-sr='' /><span style='font-family: a
 rial\, helvetica\, sans-serif\; font-size: 12pt\;'>REALTOR® Hub on the 5</
 span><br data-uw-rm-sr='' /><span style='font-family: arial\, helvetica\, 
 sans-serif\; font-size: 12pt\;'>1903 Wright Pl.\, Ste. 120</span><br data-
 uw-rm-sr='' /><span style='font-family: arial\, helvetica\, sans-serif\; f
 ont-size: 12pt\;'>Carlsbad\, CA 92008</span><br data-uw-rm-sr='' /><span s
 tyle='font-family: arial\, helvetica\, sans-serif\; font-size: 12pt\;'><em
 ><br data-uw-rm-sr='' />and</em></span><br data-uw-rm-sr='' /><span style=
 'font-family: arial\, helvetica\, sans-serif\; font-size: 12pt\;'><br data
 -uw-rm-sr='' />Online on Zoom</span></p>\n<br data-uw-rm-sr='' /><span sty
 le='font-family: arial\, helvetica\, sans-serif\; font-size: 12pt\;'><stro
 ng>Webinar/Zoom Registration Fee: <br data-uw-rm-sr='' /></strong>Members 
 - $60.00                                     </span><br data-uw-rm-sr='' /
 ><span style='font-family: arial\, helvetica\, sans-serif\; font-size: 12p
 t\;'>Non-Members: $75.00</span><br data-uw-rm-sr='' /><span style='font-fa
 mily: arial\, helvetica\, sans-serif\; font-size: 12pt\;'>Current NSDCR Me
 diators: FREE</span>\n<p><span style='font-family: arial\, helvetica\, san
 s-serif\; font-size: 12pt\;'> </span></p>\n<p><span style='font-family: ar
 ial\, helvetica\, sans-serif\; font-size: 12pt\;'><strong>Instructor:</str
 ong>  Elizabeth Miller-Bougdanos<br data-uw-rm-sr='' /><span style='font-s
 ize: 10pt\;' class='WdYUQQ text-decoration-none text-strikethrough-none'>E
 lizabeth Miller-Bougdanos is currently an attorney in private practice. Sh
 e was Senior Counsel in the Corporate Legal Department of the California A
 ssociation of REALTORS® (“C.A.R.”) for over 20 years. During her tenure at
  C.A.R.\, she worked on REALTOR® legal and business matters\, advising C.A
 .R.\, local Associations\, MLSs and the real estate industry on a variety 
 of broker\, MLS and online data\, licensing\, intellectual property\, priv
 acy\, antitrust\, Code of Ethics\, contractual and corporate matters. She 
 oversaw the State’s legal and policy program on the MLS and published Mode
 l MLS and Bylaws documents and legal articles. She was a frequent speaker 
 on these issues.</span></span></p>
END:VEVENT
END:VCALENDAR
