BEGIN:VCALENDAR
VERSION:2.0
PRODID:-//https://nsdcrealtors.com//NONSGML kigkonsult.se iCalcreator 2.41.71//
CALSCALE:GREGORIAN
METHOD:PUBLISH
UID:32613033-6633-4132-b535-396637663464
X-WR-CALNAME:JCal Pro Calendar
X-WR-CALDESC:Your online events calendar
X-WR-TIMEZONE:America/Los_Angeles
BEGIN:VTIMEZONE
TZID:America/Los_Angeles
TZUNTIL:20271107T090000Z
BEGIN:STANDARD
TZNAME:PST
DTSTART:20251102T020000
TZOFFSETFROM:-0700
TZOFFSETTO:-0800
RDATE:20261101T020000
END:STANDARD
BEGIN:DAYLIGHT
TZNAME:PDT
DTSTART:20260308T020000
TZOFFSETFROM:-0800
TZOFFSETTO:-0700
RDATE:20270314T020000
END:DAYLIGHT
END:VTIMEZONE
BEGIN:VEVENT
UID:20230717T113000PDT-7644FBi8jx@https://nsdcrealtors.com/
DTSTAMP:20260419T234717Z
CATEGORIES:Education Webinar
DESCRIPTION:<div><span style='font-size: 12pt\;'><strong><span style='font-
 family: arial\, helvetica\, sans-serif\;'>Brokers and Office Managers are 
 invited to this exclusive webinar to discuss the latest CRMLS Rules and Re
 gulations changes\, the revised N.A.R.’s Procuring Cause Guidelines\, and 
 the latest Standard Forms updates. This exclusive opportunity will be offe
 red via Zoom\, where you can get answers to all these subjects in one plac
 e. Register and join other Brokers and Office Managers for this all-inclus
 ive event.</span></strong></span></div>\n<p><span style='font-family: aria
 l\, helvetica\, sans-serif\; font-size: 12pt\;'><strong><br /><br />Agenda
 </strong></span></p>\n<ul>\n<li>\n<p><span style='font-family: arial\, hel
 vetica\, sans-serif\; font-size: 12pt\;'>CALL TO ORDER – 11:30 A.M. </span
 ></p>\n</li>\n<li>\n<p><span style='font-family: arial\, helvetica\, sans-
 serif\; font-size: 12pt\;'>CRMLS Rules Update:</span></p>\n<p><span style=
 'font-family: arial\, helvetica\, sans-serif\; font-size: 12pt\;'>Guest Sp
 eaker: Chris Hasvold\, CRMLS President</span></p>\n</li>\n<li>\n<p><span s
 tyle='font-family: arial\, helvetica\, sans-serif\; font-size: 12pt\;'>Pro
 curing Cause Update:</span></p>\n<p><span style='font-family: arial\, helv
 etica\, sans-serif\; font-size: 12pt\;'>Guest Speaker: Peter Bolane\, NSDC
 R President-Elect</span></p>\n</li>\n<li>\n<p><span style='font-family: ar
 ial\, helvetica\, sans-serif\; font-size: 12pt\;'>Standard Forms Revisions
 :</span></p>\n<p><span style='font-family: arial\, helvetica\, sans-serif\
 ; font-size: 12pt\;'>Guest Speaker: Fred Pfister\, NSDCR General Counsel</
 span></p>\n</li>\n<li>\n<p><span style='font-family: arial\, helvetica\, s
 ans-serif\; font-size: 12pt\;'>For the Good of the Order</span></p>\n</li>
 \n</ul>\n<p><span style='font-family: arial\, helvetica\, sans-serif\; fon
 t-size: 12pt\;'><strong><br /><span style='color: #ff0000\;'>This webinar 
 is for Brokers and Office Managers Only.</span></strong></span></p>
DTSTART;TZID=America/Los_Angeles:20230717T113000
DTEND;TZID=America/Los_Angeles:20230717T133000
SUMMARY:Exclusive Broker Forum Webinar
URL:https://nsdcrealtors.com/education-consumers/monthly-calendar/36-ce/372
 7-exclusive-broker-webinar
X-ALT-DESC;FMTTYPE=TEXT/HTML:<div><span style='font-size: 12pt\;'><strong><
 span style='font-family: arial\, helvetica\, sans-serif\;'>Brokers and Off
 ice Managers are invited to this exclusive webinar to discuss the latest C
 RMLS Rules and Regulations changes\, the revised N.A.R.’s Procuring Cause 
 Guidelines\, and the latest Standard Forms updates. This exclusive opportu
 nity will be offered via Zoom\, where you can get answers to all these sub
 jects in one place. Register and join other Brokers and Office Managers fo
 r this all-inclusive event.</span></strong></span></div>\n<p><span style='
 font-family: arial\, helvetica\, sans-serif\; font-size: 12pt\;'><strong><
 br /><br />Agenda</strong></span></p>\n<ul>\n<li>\n<p><span style='font-fa
 mily: arial\, helvetica\, sans-serif\; font-size: 12pt\;'>CALL TO ORDER – 
 11:30 A.M. </span></p>\n</li>\n<li>\n<p><span style='font-family: arial\, 
 helvetica\, sans-serif\; font-size: 12pt\;'>CRMLS Rules Update:</span></p>
 \n<p><span style='font-family: arial\, helvetica\, sans-serif\; font-size:
  12pt\;'>Guest Speaker: Chris Hasvold\, CRMLS President</span></p>\n</li>
 \n<li>\n<p><span style='font-family: arial\, helvetica\, sans-serif\; font
 -size: 12pt\;'>Procuring Cause Update:</span></p>\n<p><span style='font-fa
 mily: arial\, helvetica\, sans-serif\; font-size: 12pt\;'>Guest Speaker: P
 eter Bolane\, NSDCR President-Elect</span></p>\n</li>\n<li>\n<p><span styl
 e='font-family: arial\, helvetica\, sans-serif\; font-size: 12pt\;'>Standa
 rd Forms Revisions:</span></p>\n<p><span style='font-family: arial\, helve
 tica\, sans-serif\; font-size: 12pt\;'>Guest Speaker: Fred Pfister\, NSDCR
  General Counsel</span></p>\n</li>\n<li>\n<p><span style='font-family: ari
 al\, helvetica\, sans-serif\; font-size: 12pt\;'>For the Good of the Order
 </span></p>\n</li>\n</ul>\n<p><span style='font-family: arial\, helvetica\
 , sans-serif\; font-size: 12pt\;'><strong><br /><span style='color: #ff000
 0\;'>This webinar is for Brokers and Office Managers Only.</span></strong>
 </span></p>
END:VEVENT
END:VCALENDAR
