BEGIN:VCALENDAR
VERSION:2.0
PRODID:-//https://nsdcrealtors.com//NONSGML kigkonsult.se iCalcreator 2.41.71//
CALSCALE:GREGORIAN
METHOD:PUBLISH
UID:64326438-6430-4830-b363-326164633433
X-WR-CALNAME:JCal Pro Calendar
X-WR-CALDESC:Your online events calendar
X-WR-TIMEZONE:America/Los_Angeles
BEGIN:VTIMEZONE
TZID:America/Los_Angeles
TZUNTIL:20271107T090000Z
BEGIN:STANDARD
TZNAME:PST
DTSTART:20251102T020000
TZOFFSETFROM:-0700
TZOFFSETTO:-0800
RDATE:20261101T020000
END:STANDARD
BEGIN:DAYLIGHT
TZNAME:PDT
DTSTART:20260308T020000
TZOFFSETFROM:-0800
TZOFFSETTO:-0700
RDATE:20270314T020000
END:DAYLIGHT
END:VTIMEZONE
BEGIN:VEVENT
UID:20240716T090000UTC-8683nsxblW@https://nsdcrealtors.com/
DTSTAMP:20260420T044943Z
CATEGORIES:C.A.R. Education
CATEGORIES:Education Webinar
DESCRIPTION:<p><span style='font-family: arial\, helvetica\, sans-serif\; f
 ont-size: 12pt\;'><strong>Message from the California Association of REALT
 ORS®:</strong></span></p>\n<p><span style='font-family: arial\, helvetica\
 , sans-serif\; font-size: 12pt\;'>C.A.R. has released new and revised stan
 dard forms as part of its semi-annual update. While we understand change i
 s difficult\, we are also in an environment that continues to shift. As yo
 ur partner\, C.A.R. is fully committed to supporting you through these sig
 nificant practice-related changes and will provide you with extensive trai
 ning opportunities.</span></p>\n<p><span style='font-family: arial\, helve
 tica\, sans-serif\; font-size: 12pt\;'>Our leadership and legal staff will
  conduct a series of townhalls and training sessions over the coming weeks
  beginning July 10\, with additional training throughout August. Some of t
 hese sessions will be recorded and can be viewed on the page below for fut
 ure reference.</span></p>\n<p><span style='font-family: arial\, helvetica\
 , sans-serif\; font-size: 12pt\;'>Additionally\, our online class on the n
 ew buyer representation form will be made available free of charge to memb
 ers. The forms will be released in zipForm® and other forms platforms on J
 uly 24. In order to be in full compliance by August 17\, when the mandates
  of the NAR settlement go into effect\, it is imperative that C.A.R. membe
 rs are ready to use the new forms and prepared to discuss the changes with
  their clients.&nbsp\;<br /></span></p>\n<p><span style='font-family: aria
 l\, helvetica\, sans-serif\; font-size: 12pt\;'>Register and attend&nbsp\;
 one of the townhalls&nbsp\;below.&nbsp\;You may attend more than one Townh
 all\; however\, each one will cover the same material.</span></p>\n<p><spa
 n style='font-family: arial\, helvetica\, sans-serif\; font-size: 12pt\;'>
 <strong>Join C.A.R. President Melanie Barker and members of C.A.R.’s legal
  team to learn about these forms and how C.A.R. is helping its members be 
 prepared to use the forms.</strong></span></p>\n<ul>\n<li><span style='fon
 t-family: arial\, helvetica\, sans-serif\; font-size: 12pt\;'>Tuesday\, Ju
 ly 16th\, 9am - 10:30am\, <a href='https://u8045567.ct.sendgrid.net/ls/cli
 ck?upn=u001.kZ8rpWWymkoIGu6ZKboPgZxB29s9eukCIiJICTYoOoEmI4Sxp08qryJtOsvYMn
 -2BRt-2F3Q3wqY36JdJgQ-2FqJR97l6dqfBOBdNMRl1jUw9wsTw-2BxsWJdMGl04j3aojiMxrN
 --zz_NCp5Dv-2Fev1llZa5-2FcznXpIG0ju8a94CouRJNxSNwjMhHC6klunrkEj8Zy3CiKtzTX
 MMsA2eBvYzq5qkoo5EhsYrmSIqcRXVL3abuK9NG15PcMVZTIxF5mnYloUXvpMIXBa56MMYuzJI
 9Odo7Dud2AYPgNN9J8ACFtd6L92kRkdjbGQTmR-2FlFHWBoArl-2FmCiqc-2F82OXHQl5TwiV4
 gDNR8IA-3D-3D' style='color: #0d48b5\;'>Register Here</a></span></li>\n<li
 ><span style='font-family: arial\, helvetica\, sans-serif\; font-size: 12p
 t\;'>Wednesday\, July 17th\, 9am - 10:30am\, <a href='https://u8045567.ct.
 sendgrid.net/ls/click?upn=u001.kZ8rpWWymkoIGu6ZKboPgZxB29s9eukCIiJICTYoOoE
 mI4Sxp08qryJtOsvYMn-2BRouZdiXk5hodlt9r0ludjg0Hzsj6qqM6CicMAVOn2a8HKuEIK1fg
 hD2OAYC3hSx6qHTVk_NCp5Dv-2Fev1llZa5-2FcznXpIG0ju8a94CouRJNxSNwjMhHC6klunrk
 Ej8Zy3CiKtzTXMMsA2eBvYzq5qkoo5EhsZRzd7yzJ7cDSdMSIfRjgyqpXYTH7480J1lznLF9-2
 B1UvkM7-2FB5DbHSsiBW5TYWgnZq2AsEV8-2F-2F7OGGGWmmK5tkNfXqTLHo3O6xqbJQqaw6dD
 fQ4-2Bay-2FuwzU5tOmsUXXTrg-3D-3D' style='color: #0d48b5\;'>Register Here</
 a><span></span></span></li>\n<li><span style='font-family: arial\, helveti
 ca\, sans-serif\; font-size: 12pt\;'>Friday\, July 19th\, 9am - 10:30 am\,
  <a href='https://u8045567.ct.sendgrid.net/ls/click?upn=u001.kZ8rpWWymkoIG
 u6ZKboPgZxB29s9eukCIiJICTYoOoEmI4Sxp08qryJtOsvYMn-2BREz-2FQuc7lYF3vN6Pagi1
 iRrbCM5DLwjN-2FhLvBISqjzFKJdIoiQHW5-2F6lS01etepviryEL_NCp5Dv-2Fev1llZa5-2F
 cznXpIG0ju8a94CouRJNxSNwjMhHC6klunrkEj8Zy3CiKtzTXMMsA2eBvYzq5qkoo5EhsQ4Pi-
 2FQ9o0rkbuAgh9sycbaH3NMSCRwUXNlFch-2BwYTwsUKOh8mgaz4wkPeShjnFfC29hzQ7OVLXF
 QEpySQFTK0aH5qWzLvVa858Jo1pqX-2FrfBmAFNlnLLoGzvLHI02v-2FqA-3D-3D' style='c
 olor: #0d48b5\;'>Register Here</a></span></li>\n</ul>
DTSTART;TZID=America/Los_Angeles:20240716T090000
DTEND;TZID=America/Los_Angeles:20240716T103000
SUMMARY:Special Townhall on C.A.R. Forms
URL:https://nsdcrealtors.com/education-consumers/monthly-calendar/68-c-a-r-
 webinars/3847-special-townhall-on-c-a-r-forms
X-ALT-DESC;FMTTYPE=TEXT/HTML:<p><span style='font-family: arial\, helvetica
 \, sans-serif\; font-size: 12pt\;'><strong>Message from the California Ass
 ociation of REALTORS®:</strong></span></p>\n<p><span style='font-family: a
 rial\, helvetica\, sans-serif\; font-size: 12pt\;'>C.A.R. has released new
  and revised standard forms as part of its semi-annual update. While we un
 derstand change is difficult\, we are also in an environment that continue
 s to shift. As your partner\, C.A.R. is fully committed to supporting you 
 through these significant practice-related changes and will provide you wi
 th extensive training opportunities.</span></p>\n<p><span style='font-fami
 ly: arial\, helvetica\, sans-serif\; font-size: 12pt\;'>Our leadership and
  legal staff will conduct a series of townhalls and training sessions over
  the coming weeks beginning July 10\, with additional training throughout 
 August. Some of these sessions will be recorded and can be viewed on the p
 age below for future reference.</span></p>\n<p><span style='font-family: a
 rial\, helvetica\, sans-serif\; font-size: 12pt\;'>Additionally\, our onli
 ne class on the new buyer representation form will be made available free 
 of charge to members. The forms will be released in zipForm® and other for
 ms platforms on July 24. In order to be in full compliance by August 17\, 
 when the mandates of the NAR settlement go into effect\, it is imperative 
 that C.A.R. members are ready to use the new forms and prepared to discuss
  the changes with their clients.&nbsp\;<br /></span></p>\n<p><span style='
 font-family: arial\, helvetica\, sans-serif\; font-size: 12pt\;'>Register 
 and attend&nbsp\;one of the townhalls&nbsp\;below.&nbsp\;You may attend mo
 re than one Townhall\; however\, each one will cover the same material.</s
 pan></p>\n<p><span style='font-family: arial\, helvetica\, sans-serif\; fo
 nt-size: 12pt\;'><strong>Join C.A.R. President Melanie Barker and members 
 of C.A.R.’s legal team to learn about these forms and how C.A.R. is helpin
 g its members be prepared to use the forms.</strong></span></p>\n<ul>\n<li
 ><span style='font-family: arial\, helvetica\, sans-serif\; font-size: 12p
 t\;'>Tuesday\, July 16th\, 9am - 10:30am\, <a href='https://u8045567.ct.se
 ndgrid.net/ls/click?upn=u001.kZ8rpWWymkoIGu6ZKboPgZxB29s9eukCIiJICTYoOoEmI
 4Sxp08qryJtOsvYMn-2BRt-2F3Q3wqY36JdJgQ-2FqJR97l6dqfBOBdNMRl1jUw9wsTw-2BxsW
 JdMGl04j3aojiMxrN--zz_NCp5Dv-2Fev1llZa5-2FcznXpIG0ju8a94CouRJNxSNwjMhHC6kl
 unrkEj8Zy3CiKtzTXMMsA2eBvYzq5qkoo5EhsYrmSIqcRXVL3abuK9NG15PcMVZTIxF5mnYloU
 XvpMIXBa56MMYuzJI9Odo7Dud2AYPgNN9J8ACFtd6L92kRkdjbGQTmR-2FlFHWBoArl-2FmCiq
 c-2F82OXHQl5TwiV4gDNR8IA-3D-3D' style='color: #0d48b5\;'>Register Here</a>
 </span></li>\n<li><span style='font-family: arial\, helvetica\, sans-serif
 \; font-size: 12pt\;'>Wednesday\, July 17th\, 9am - 10:30am\, <a href='htt
 ps://u8045567.ct.sendgrid.net/ls/click?upn=u001.kZ8rpWWymkoIGu6ZKboPgZxB29
 s9eukCIiJICTYoOoEmI4Sxp08qryJtOsvYMn-2BRouZdiXk5hodlt9r0ludjg0Hzsj6qqM6Cic
 MAVOn2a8HKuEIK1fghD2OAYC3hSx6qHTVk_NCp5Dv-2Fev1llZa5-2FcznXpIG0ju8a94CouRJ
 NxSNwjMhHC6klunrkEj8Zy3CiKtzTXMMsA2eBvYzq5qkoo5EhsZRzd7yzJ7cDSdMSIfRjgyqpX
 YTH7480J1lznLF9-2B1UvkM7-2FB5DbHSsiBW5TYWgnZq2AsEV8-2F-2F7OGGGWmmK5tkNfXqT
 LHo3O6xqbJQqaw6dDfQ4-2Bay-2FuwzU5tOmsUXXTrg-3D-3D' style='color: #0d48b5\;
 '>Register Here</a><span></span></span></li>\n<li><span style='font-family
 : arial\, helvetica\, sans-serif\; font-size: 12pt\;'>Friday\, July 19th\,
  9am - 10:30 am\, <a href='https://u8045567.ct.sendgrid.net/ls/click?upn=u
 001.kZ8rpWWymkoIGu6ZKboPgZxB29s9eukCIiJICTYoOoEmI4Sxp08qryJtOsvYMn-2BREz-2
 FQuc7lYF3vN6Pagi1iRrbCM5DLwjN-2FhLvBISqjzFKJdIoiQHW5-2F6lS01etepviryEL_NCp
 5Dv-2Fev1llZa5-2FcznXpIG0ju8a94CouRJNxSNwjMhHC6klunrkEj8Zy3CiKtzTXMMsA2eBv
 Yzq5qkoo5EhsQ4Pi-2FQ9o0rkbuAgh9sycbaH3NMSCRwUXNlFch-2BwYTwsUKOh8mgaz4wkPeS
 hjnFfC29hzQ7OVLXFQEpySQFTK0aH5qWzLvVa858Jo1pqX-2FrfBmAFNlnLLoGzvLHI02v-2Fq
 A-3D-3D' style='color: #0d48b5\;'>Register Here</a></span></li>\n</ul>
END:VEVENT
END:VCALENDAR
