BEGIN:VCALENDAR
VERSION:2.0
PRODID:-//https://nsdcrealtors.com//NONSGML kigkonsult.se iCalcreator 2.41.71//
CALSCALE:GREGORIAN
METHOD:PUBLISH
UID:65623666-3537-4431-a363-313738646636
X-WR-CALNAME:JCal Pro Calendar
X-WR-CALDESC:Your online events calendar
X-WR-TIMEZONE:America/Los_Angeles
BEGIN:VTIMEZONE
TZID:America/Los_Angeles
TZUNTIL:20271107T090000Z
BEGIN:STANDARD
TZNAME:PST
DTSTART:20251102T020000
TZOFFSETFROM:-0700
TZOFFSETTO:-0800
RDATE:20261101T020000
END:STANDARD
BEGIN:DAYLIGHT
TZNAME:PDT
DTSTART:20260308T020000
TZOFFSETFROM:-0800
TZOFFSETTO:-0700
RDATE:20270314T020000
END:DAYLIGHT
END:VTIMEZONE
BEGIN:VEVENT
UID:20230721T090000PDT-0644eGicl3@https://nsdcrealtors.com/
DTSTAMP:20260419T232632Z
CATEGORIES:Education Webinar
DESCRIPTION:<p><span style='font-family: arial\, helvetica\, sans-serif\; f
 ont-size: 12pt\;'><strong><span style='color: #ff0000\;'>**This is the Web
 inar/Zoom Registration**</span><br data-uw-rm-sr='' /><br data-uw-rm-sr=''
  />Brokers and Office Managers: Learn how to handle disputes between Sales
 persons\, Buyers\, and Sellers.<br data-uw-rm-sr='' /></strong><em>All Mem
 bers who attend can become a North San Diego County REALTOR® mediator!</em
 ></span></p>\n<p><br data-uw-rm-sr='' /><span style='font-family: arial\, 
 helvetica\, sans-serif\; font-size: 12pt\;'><strong>What's in it for you?<
 /strong></span></p>\n<ul data-editing-info='{&quot\;orderedStyleType&quot\
 ;:1\,&quot\;unorderedStyleType&quot\;:1}'>\n<li><span style='font-family: 
 arial\, helvetica\, sans-serif\; font-size: 12pt\;'>How to handle disputes
  that may arise out of transactions within your own office</span></li>\n</
 ul>\n<ul data-editing-info='{&quot\;orderedStyleType&quot\;:1\,&quot\;unor
 deredStyleType&quot\;:1}'>\n<li><span style='font-family: arial\, helvetic
 a\, sans-serif\; font-size: 12pt\;'>Strategies for dealing with difficult 
 people and situations</span></li>\n</ul>\n<ul data-editing-info='{&quot\;o
 rderedStyleType&quot\;:1\,&quot\;unorderedStyleType&quot\;:1}'>\n<li><span
  style='font-family: arial\, helvetica\, sans-serif\; font-size: 12pt\;'>H
 ow to break down conflict issues</span></li>\n</ul>\n<ul data-editing-info
 ='{&quot\;orderedStyleType&quot\;:1\,&quot\;unorderedStyleType&quot\;:1}'>
 \n<li><span style='font-family: arial\, helvetica\, sans-serif\; font-size
 : 12pt\;'>How to stay calm and collected during difficult times</span></li
 >\n</ul>\n<p><span style='font-family: arial\, helvetica\, sans-serif\; fo
 nt-size: 12pt\;'><strong><br data-uw-rm-sr='' />Session 1:</strong>  July 
 20\, 2023\, 1:00 pm - 4:00 pm </span></p>\n<p><span style='font-family: ar
 ial\, helvetica\, sans-serif\; font-size: 12pt\;'><strong><br data-uw-rm-s
 r='' /><span style='color: #ff0000\;'>Session 2:</span> </strong> July 21\
 , 2023\, 9:00 am - 12:00 pm</span><br data-uw-rm-sr='' /><br data-uw-rm-sr
 ='' /><span style='font-family: arial\, helvetica\, sans-serif\; font-size
 : 12pt\;'><strong>Where:</strong> </span><br data-uw-rm-sr='' /><span styl
 e='font-family: arial\, helvetica\, sans-serif\; font-size: 12pt\;'>REALTO
 R® Hub on the 5</span><br data-uw-rm-sr='' /><span style='font-family: ari
 al\, helvetica\, sans-serif\; font-size: 12pt\;'>1903 Wright Pl.\, Ste. 12
 0</span><br data-uw-rm-sr='' /><span style='font-family: arial\, helvetica
 \, sans-serif\; font-size: 12pt\;'>Carlsbad\, CA 92008</span><br data-uw-r
 m-sr='' /><span style='font-family: arial\, helvetica\, sans-serif\; font-
 size: 12pt\;'><em><br data-uw-rm-sr='' />and</em></span><br data-uw-rm-sr=
 '' /><span style='font-family: arial\, helvetica\, sans-serif\; font-size:
  12pt\;'><br data-uw-rm-sr='' />Online on Zoom</span></p>\n<p><span style=
 'font-size: 12pt\;'><strong><span style='font-family: arial\, helvetica\, 
 sans-serif\;'>Webinar/Zoom Registration Fee: </span></strong></span><br da
 ta-uw-rm-sr='' /><span style='font-family: arial\, helvetica\, sans-serif\
 ; font-size: 12pt\;'>Members - $60.00                                     
 </span><br data-uw-rm-sr='' /><span style='font-family: arial\, helvetica\
 , sans-serif\; font-size: 12pt\;'>Non-Members: $75.00</span><br data-uw-rm
 -sr='' /><span style='font-family: arial\, helvetica\, sans-serif\; font-s
 ize: 12pt\;'>Current NSDCR Mediators: FREE</span></p>\n<p><span style='fon
 t-family: arial\, helvetica\, sans-serif\; font-size: 12pt\;'><strong>Inst
 ructor:</strong>  Elizabeth Miller-Bougdanos<br data-uw-rm-sr='' /><span s
 tyle='font-size: 10pt\;' class='WdYUQQ text-decoration-none text-strikethr
 ough-none'>Elizabeth Miller-Bougdanos is currently an attorney in private 
 practice. She was Senior Counsel in the Corporate Legal Department of the 
 California Association of REALTORS® (“C.A.R.”) for over 20 years. During h
 er tenure at C.A.R.\, she worked on REALTOR® legal and business matters\, 
 advising C.A.R.\, local Associations\, MLSs and the real estate industry o
 n a variety of broker\, MLS and online data\, licensing\, intellectual pro
 perty\, privacy\, antitrust\, Code of Ethics\, contractual and corporate m
 atters. She oversaw the State’s legal and policy program on the MLS and pu
 blished Model MLS and Bylaws documents and legal articles. She was a frequ
 ent speaker on these issues.</span></span></p>
DTSTART;TZID=America/Los_Angeles:20230721T090000
DTEND;TZID=America/Los_Angeles:20230721T120000
SUMMARY:Mediation Training\, Session 2\, Webinar
URL:https://nsdcrealtors.com/jcal/36-ce/3713-mediation-training-session-2-w
 ebinar
X-ALT-DESC;FMTTYPE=TEXT/HTML:<p><span style='font-family: arial\, helvetica
 \, sans-serif\; font-size: 12pt\;'><strong><span style='color: #ff0000\;'>
 **This is the Webinar/Zoom Registration**</span><br data-uw-rm-sr='' /><br
  data-uw-rm-sr='' />Brokers and Office Managers: Learn how to handle dispu
 tes between Salespersons\, Buyers\, and Sellers.<br data-uw-rm-sr='' /></s
 trong><em>All Members who attend can become a North San Diego County REALT
 OR® mediator!</em></span></p>\n<p><br data-uw-rm-sr='' /><span style='font
 -family: arial\, helvetica\, sans-serif\; font-size: 12pt\;'><strong>What'
 s in it for you?</strong></span></p>\n<ul data-editing-info='{&quot\;order
 edStyleType&quot\;:1\,&quot\;unorderedStyleType&quot\;:1}'>\n<li><span sty
 le='font-family: arial\, helvetica\, sans-serif\; font-size: 12pt\;'>How t
 o handle disputes that may arise out of transactions within your own offic
 e</span></li>\n</ul>\n<ul data-editing-info='{&quot\;orderedStyleType&quot
 \;:1\,&quot\;unorderedStyleType&quot\;:1}'>\n<li><span style='font-family:
  arial\, helvetica\, sans-serif\; font-size: 12pt\;'>Strategies for dealin
 g with difficult people and situations</span></li>\n</ul>\n<ul data-editin
 g-info='{&quot\;orderedStyleType&quot\;:1\,&quot\;unorderedStyleType&quot\
 ;:1}'>\n<li><span style='font-family: arial\, helvetica\, sans-serif\; fon
 t-size: 12pt\;'>How to break down conflict issues</span></li>\n</ul>\n<ul 
 data-editing-info='{&quot\;orderedStyleType&quot\;:1\,&quot\;unorderedStyl
 eType&quot\;:1}'>\n<li><span style='font-family: arial\, helvetica\, sans-
 serif\; font-size: 12pt\;'>How to stay calm and collected during difficult
  times</span></li>\n</ul>\n<p><span style='font-family: arial\, helvetica\
 , sans-serif\; font-size: 12pt\;'><strong><br data-uw-rm-sr='' />Session 1
 :</strong>  July 20\, 2023\, 1:00 pm - 4:00 pm </span></p>\n<p><span style
 ='font-family: arial\, helvetica\, sans-serif\; font-size: 12pt\;'><strong
 ><br data-uw-rm-sr='' /><span style='color: #ff0000\;'>Session 2:</span> <
 /strong> July 21\, 2023\, 9:00 am - 12:00 pm</span><br data-uw-rm-sr='' />
 <br data-uw-rm-sr='' /><span style='font-family: arial\, helvetica\, sans-
 serif\; font-size: 12pt\;'><strong>Where:</strong> </span><br data-uw-rm-s
 r='' /><span style='font-family: arial\, helvetica\, sans-serif\; font-siz
 e: 12pt\;'>REALTOR® Hub on the 5</span><br data-uw-rm-sr='' /><span style=
 'font-family: arial\, helvetica\, sans-serif\; font-size: 12pt\;'>1903 Wri
 ght Pl.\, Ste. 120</span><br data-uw-rm-sr='' /><span style='font-family: 
 arial\, helvetica\, sans-serif\; font-size: 12pt\;'>Carlsbad\, CA 92008</s
 pan><br data-uw-rm-sr='' /><span style='font-family: arial\, helvetica\, s
 ans-serif\; font-size: 12pt\;'><em><br data-uw-rm-sr='' />and</em></span><
 br data-uw-rm-sr='' /><span style='font-family: arial\, helvetica\, sans-s
 erif\; font-size: 12pt\;'><br data-uw-rm-sr='' />Online on Zoom</span></p>
 \n<p><span style='font-size: 12pt\;'><strong><span style='font-family: ari
 al\, helvetica\, sans-serif\;'>Webinar/Zoom Registration Fee: </span></str
 ong></span><br data-uw-rm-sr='' /><span style='font-family: arial\, helvet
 ica\, sans-serif\; font-size: 12pt\;'>Members - $60.00                    
                  </span><br data-uw-rm-sr='' /><span style='font-family: a
 rial\, helvetica\, sans-serif\; font-size: 12pt\;'>Non-Members: $75.00</sp
 an><br data-uw-rm-sr='' /><span style='font-family: arial\, helvetica\, sa
 ns-serif\; font-size: 12pt\;'>Current NSDCR Mediators: FREE</span></p>\n<p
 ><span style='font-family: arial\, helvetica\, sans-serif\; font-size: 12p
 t\;'><strong>Instructor:</strong>  Elizabeth Miller-Bougdanos<br data-uw-r
 m-sr='' /><span style='font-size: 10pt\;' class='WdYUQQ text-decoration-no
 ne text-strikethrough-none'>Elizabeth Miller-Bougdanos is currently an att
 orney in private practice. She was Senior Counsel in the Corporate Legal D
 epartment of the California Association of REALTORS® (“C.A.R.”) for over 2
 0 years. During her tenure at C.A.R.\, she worked on REALTOR® legal and bu
 siness matters\, advising C.A.R.\, local Associations\, MLSs and the real 
 estate industry on a variety of broker\, MLS and online data\, licensing\,
  intellectual property\, privacy\, antitrust\, Code of Ethics\, contractua
 l and corporate matters. She oversaw the State’s legal and policy program 
 on the MLS and published Model MLS and Bylaws documents and legal articles
 . She was a frequent speaker on these issues.</span></span></p>
END:VEVENT
BEGIN:VEVENT
UID:20230721T090000PDT-6656kpXTmv@https://nsdcrealtors.com/
DTSTAMP:20260419T232632Z
CATEGORIES:In Person Event
DESCRIPTION:<p><span style='font-family: arial\, helvetica\, sans-serif\; f
 ont-size: 12pt\;'><strong><span style='color: #ff0000\;'>*This is the In-P
 erson Registration**</span><br data-uw-rm-sr='' /><br data-uw-rm-sr='' />B
 rokers and Office Managers: Learn how to handle disputes between Salespers
 ons\, Buyers\, and Sellers.<br data-uw-rm-sr='' /></strong><em>All Members
  who attend can become a North San Diego County REALTOR® mediator!</em></s
 pan></p>\n<p><br data-uw-rm-sr='' /><span style='font-family: arial\, helv
 etica\, sans-serif\; font-size: 12pt\;'><strong>What's in it for you?</str
 ong></span></p>\n<ul data-editing-info='{&quot\;orderedStyleType&quot\;:1\
 ,&quot\;unorderedStyleType&quot\;:1}'>\n<li><span style='font-family: aria
 l\, helvetica\, sans-serif\; font-size: 12pt\;'>How to handle disputes tha
 t may arise out of transactions within your own office</span></li>\n</ul>
 \n<ul data-editing-info='{&quot\;orderedStyleType&quot\;:1\,&quot\;unorder
 edStyleType&quot\;:1}'>\n<li><span style='font-family: arial\, helvetica\,
  sans-serif\; font-size: 12pt\;'>Strategies for dealing with difficult peo
 ple and situations</span></li>\n</ul>\n<ul data-editing-info='{&quot\;orde
 redStyleType&quot\;:1\,&quot\;unorderedStyleType&quot\;:1}'>\n<li><span st
 yle='font-family: arial\, helvetica\, sans-serif\; font-size: 12pt\;'>How 
 to break down conflict issues</span></li>\n</ul>\n<ul data-editing-info='{
 &quot\;orderedStyleType&quot\;:1\,&quot\;unorderedStyleType&quot\;:1}'>\n<
 li><span style='font-family: arial\, helvetica\, sans-serif\; font-size: 1
 2pt\;'>How to stay calm and collected during difficult times</span></li>\n
 </ul>\n<p><span style='font-family: arial\, helvetica\, sans-serif\; font-
 size: 12pt\;'><strong><br data-uw-rm-sr='' />Session 1:</strong>  July 20\
 , 2023\, 1:00 pm - 4:00 pm </span></p>\n<p><span style='font-family: arial
 \, helvetica\, sans-serif\; font-size: 12pt\;'><strong><br data-uw-rm-sr='
 ' /><span style='color: #ff0000\;'>Session 2</span>: </strong> July 21\, 2
 023\, 9:00 am - 12:00 pm</span><br data-uw-rm-sr='' /><br data-uw-rm-sr=''
  /><span style='font-family: arial\, helvetica\, sans-serif\; font-size: 1
 2pt\;'><strong>Where:</strong> </span><br data-uw-rm-sr='' /><span style='
 font-family: arial\, helvetica\, sans-serif\; font-size: 12pt\;'>REALTOR® 
 Hub on the 5</span><br data-uw-rm-sr='' /><span style='font-family: arial\
 , helvetica\, sans-serif\; font-size: 12pt\;'>1903 Wright Pl.\, Ste. 120</
 span><br data-uw-rm-sr='' /><span style='font-family: arial\, helvetica\, 
 sans-serif\; font-size: 12pt\;'>Carlsbad\, CA 92008</span><br data-uw-rm-s
 r='' /><span style='font-family: arial\, helvetica\, sans-serif\; font-siz
 e: 12pt\;'><em><br data-uw-rm-sr='' />and</em></span><br data-uw-rm-sr='' 
 /><span style='font-family: arial\, helvetica\, sans-serif\; font-size: 12
 pt\;'><br data-uw-rm-sr='' />Online on Zoom</span></p>\n<p><span style='fo
 nt-family: arial\, helvetica\, sans-serif\; font-size: 12pt\;'><strong>Web
 inar/Zoom Registration Fee: </strong></span><br data-uw-rm-sr='' /><span s
 tyle='font-family: arial\, helvetica\, sans-serif\; font-size: 12pt\;'>Mem
 bers - $60.00                                     </span><br data-uw-rm-sr
 ='' /><span style='font-family: arial\, helvetica\, sans-serif\; font-size
 : 12pt\;'>Non-Members: $75.00</span><br data-uw-rm-sr='' /><span style='fo
 nt-family: arial\, helvetica\, sans-serif\; font-size: 12pt\;'>Current NSD
 CR Mediators: FREE</span></p>\n<p><span style='font-family: arial\, helvet
 ica\, sans-serif\; font-size: 12pt\;'><strong>Instructor:</strong>  Elizab
 eth Miller-Bougdanos<br data-uw-rm-sr='' /><span style='font-size: 10pt\;'
  class='WdYUQQ text-decoration-none text-strikethrough-none'>Elizabeth Mil
 ler-Bougdanos is currently an attorney in private practice. She was Senior
  Counsel in the Corporate Legal Department of the California Association o
 f REALTORS® (“C.A.R.”) for over 20 years. During her tenure at C.A.R.\, sh
 e worked on REALTOR® legal and business matters\, advising C.A.R.\, local 
 Associations\, MLSs and the real estate industry on a variety of broker\, 
 MLS and online data\, licensing\, intellectual property\, privacy\, antitr
 ust\, Code of Ethics\, contractual and corporate matters. She oversaw the 
 State’s legal and policy program on the MLS and published Model MLS and By
 laws documents and legal articles. She was a frequent speaker on these iss
 ues.</span></span></p>
DTSTART;TZID=America/Los_Angeles:20230721T090000
DTEND;TZID=America/Los_Angeles:20230721T120000
SUMMARY:Mediation Training\, Session 2\, In-Person
URL:https://nsdcrealtors.com/jcal/20-association-events/3714-mediation-trai
 ning-session-2-in-person
X-ALT-DESC;FMTTYPE=TEXT/HTML:<p><span style='font-family: arial\, helvetica
 \, sans-serif\; font-size: 12pt\;'><strong><span style='color: #ff0000\;'>
 *This is the In-Person Registration**</span><br data-uw-rm-sr='' /><br dat
 a-uw-rm-sr='' />Brokers and Office Managers: Learn how to handle disputes 
 between Salespersons\, Buyers\, and Sellers.<br data-uw-rm-sr='' /></stron
 g><em>All Members who attend can become a North San Diego County REALTOR® 
 mediator!</em></span></p>\n<p><br data-uw-rm-sr='' /><span style='font-fam
 ily: arial\, helvetica\, sans-serif\; font-size: 12pt\;'><strong>What's in
  it for you?</strong></span></p>\n<ul data-editing-info='{&quot\;orderedSt
 yleType&quot\;:1\,&quot\;unorderedStyleType&quot\;:1}'>\n<li><span style='
 font-family: arial\, helvetica\, sans-serif\; font-size: 12pt\;'>How to ha
 ndle disputes that may arise out of transactions within your own office</s
 pan></li>\n</ul>\n<ul data-editing-info='{&quot\;orderedStyleType&quot\;:1
 \,&quot\;unorderedStyleType&quot\;:1}'>\n<li><span style='font-family: ari
 al\, helvetica\, sans-serif\; font-size: 12pt\;'>Strategies for dealing wi
 th difficult people and situations</span></li>\n</ul>\n<ul data-editing-in
 fo='{&quot\;orderedStyleType&quot\;:1\,&quot\;unorderedStyleType&quot\;:1}
 '>\n<li><span style='font-family: arial\, helvetica\, sans-serif\; font-si
 ze: 12pt\;'>How to break down conflict issues</span></li>\n</ul>\n<ul data
 -editing-info='{&quot\;orderedStyleType&quot\;:1\,&quot\;unorderedStyleTyp
 e&quot\;:1}'>\n<li><span style='font-family: arial\, helvetica\, sans-seri
 f\; font-size: 12pt\;'>How to stay calm and collected during difficult tim
 es</span></li>\n</ul>\n<p><span style='font-family: arial\, helvetica\, sa
 ns-serif\; font-size: 12pt\;'><strong><br data-uw-rm-sr='' />Session 1:</s
 trong>  July 20\, 2023\, 1:00 pm - 4:00 pm </span></p>\n<p><span style='fo
 nt-family: arial\, helvetica\, sans-serif\; font-size: 12pt\;'><strong><br
  data-uw-rm-sr='' /><span style='color: #ff0000\;'>Session 2</span>: </str
 ong> July 21\, 2023\, 9:00 am - 12:00 pm</span><br data-uw-rm-sr='' /><br 
 data-uw-rm-sr='' /><span style='font-family: arial\, helvetica\, sans-seri
 f\; font-size: 12pt\;'><strong>Where:</strong> </span><br data-uw-rm-sr=''
  /><span style='font-family: arial\, helvetica\, sans-serif\; font-size: 1
 2pt\;'>REALTOR® Hub on the 5</span><br data-uw-rm-sr='' /><span style='fon
 t-family: arial\, helvetica\, sans-serif\; font-size: 12pt\;'>1903 Wright 
 Pl.\, Ste. 120</span><br data-uw-rm-sr='' /><span style='font-family: aria
 l\, helvetica\, sans-serif\; font-size: 12pt\;'>Carlsbad\, CA 92008</span>
 <br data-uw-rm-sr='' /><span style='font-family: arial\, helvetica\, sans-
 serif\; font-size: 12pt\;'><em><br data-uw-rm-sr='' />and</em></span><br d
 ata-uw-rm-sr='' /><span style='font-family: arial\, helvetica\, sans-serif
 \; font-size: 12pt\;'><br data-uw-rm-sr='' />Online on Zoom</span></p>\n<p
 ><span style='font-family: arial\, helvetica\, sans-serif\; font-size: 12p
 t\;'><strong>Webinar/Zoom Registration Fee: </strong></span><br data-uw-rm
 -sr='' /><span style='font-family: arial\, helvetica\, sans-serif\; font-s
 ize: 12pt\;'>Members - $60.00                                     </span><
 br data-uw-rm-sr='' /><span style='font-family: arial\, helvetica\, sans-s
 erif\; font-size: 12pt\;'>Non-Members: $75.00</span><br data-uw-rm-sr='' /
 ><span style='font-family: arial\, helvetica\, sans-serif\; font-size: 12p
 t\;'>Current NSDCR Mediators: FREE</span></p>\n<p><span style='font-family
 : arial\, helvetica\, sans-serif\; font-size: 12pt\;'><strong>Instructor:<
 /strong>  Elizabeth Miller-Bougdanos<br data-uw-rm-sr='' /><span style='fo
 nt-size: 10pt\;' class='WdYUQQ text-decoration-none text-strikethrough-non
 e'>Elizabeth Miller-Bougdanos is currently an attorney in private practice
 . She was Senior Counsel in the Corporate Legal Department of the Californ
 ia Association of REALTORS® (“C.A.R.”) for over 20 years. During her tenur
 e at C.A.R.\, she worked on REALTOR® legal and business matters\, advising
  C.A.R.\, local Associations\, MLSs and the real estate industry on a vari
 ety of broker\, MLS and online data\, licensing\, intellectual property\, 
 privacy\, antitrust\, Code of Ethics\, contractual and corporate matters. 
 She oversaw the State’s legal and policy program on the MLS and published 
 Model MLS and Bylaws documents and legal articles. She was a frequent spea
 ker on these issues.</span></span></p>
END:VEVENT
END:VCALENDAR
